BEGIN:VCALENDAR
VERSION:2.0
PRODID:-//Warrenville Fire Protection District - ECPv6.15.20//NONSGML v1.0//EN
CALSCALE:GREGORIAN
METHOD:PUBLISH
X-ORIGINAL-URL:https://warrenvillefire.com
X-WR-CALDESC:Events for Warrenville Fire Protection District
REFRESH-INTERVAL;VALUE=DURATION:PT1H
X-Robots-Tag:noindex
X-PUBLISHED-TTL:PT1H
BEGIN:VTIMEZONE
TZID:America/Chicago
BEGIN:DAYLIGHT
TZOFFSETFROM:-0600
TZOFFSETTO:-0500
TZNAME:CDT
DTSTART:20240310T080000
END:DAYLIGHT
BEGIN:STANDARD
TZOFFSETFROM:-0500
TZOFFSETTO:-0600
TZNAME:CST
DTSTART:20241103T070000
END:STANDARD
BEGIN:DAYLIGHT
TZOFFSETFROM:-0600
TZOFFSETTO:-0500
TZNAME:CDT
DTSTART:20250309T080000
END:DAYLIGHT
BEGIN:STANDARD
TZOFFSETFROM:-0500
TZOFFSETTO:-0600
TZNAME:CST
DTSTART:20251102T070000
END:STANDARD
BEGIN:DAYLIGHT
TZOFFSETFROM:-0600
TZOFFSETTO:-0500
TZNAME:CDT
DTSTART:20260308T080000
END:DAYLIGHT
BEGIN:STANDARD
TZOFFSETFROM:-0500
TZOFFSETTO:-0600
TZNAME:CST
DTSTART:20261101T070000
END:STANDARD
END:VTIMEZONE
BEGIN:VEVENT
DTSTART;TZID=America/Chicago:20250416T160000
DTEND;TZID=America/Chicago:20250416T160000
DTSTAMP:20260420T233046
CREATED:20241115T152246Z
LAST-MODIFIED:20260106T194626Z
UID:5373-1744819200-1744819200@warrenvillefire.com
SUMMARY:Firefighters' Pension Fund Meeting
DESCRIPTION:Meeting Agenda\n\n\n\nMeeting Minutes
URL:https://warrenvillefire.com/event/firefighters-pension-fund-meeting-9/
LOCATION:Warrenville Fire Protection District Headquarters\, 3S472 Batavia Road\, Warrenville\, IL\, 60555\, United States
END:VEVENT
BEGIN:VEVENT
DTSTART;TZID=America/Chicago:20250416T170000
DTEND;TZID=America/Chicago:20250416T170000
DTSTAMP:20260420T233046
CREATED:20241122T162943Z
LAST-MODIFIED:20250714T151605Z
UID:5429-1744822800-1744822800@warrenvillefire.com
SUMMARY:Trustee Board Meeting
DESCRIPTION:Meeting Agenda\n\n\n\nMeeting Packet\n\n\n\nMeeting Minutes
URL:https://warrenvillefire.com/event/trustee-board-meeting-12/
LOCATION:Warrenville Fire Protection District Headquarters\, 3S472 Batavia Road\, Warrenville\, IL\, 60555\, United States
END:VEVENT
END:VCALENDAR