BEGIN:VCALENDAR
VERSION:2.0
PRODID:-//Warrenville Fire Protection District - ECPv6.15.20//NONSGML v1.0//EN
CALSCALE:GREGORIAN
METHOD:PUBLISH
X-ORIGINAL-URL:https://warrenvillefire.com
X-WR-CALDESC:Events for Warrenville Fire Protection District
REFRESH-INTERVAL;VALUE=DURATION:PT1H
X-Robots-Tag:noindex
X-PUBLISHED-TTL:PT1H
BEGIN:VTIMEZONE
TZID:America/Chicago
BEGIN:DAYLIGHT
TZOFFSETFROM:-0600
TZOFFSETTO:-0500
TZNAME:CDT
DTSTART:20230312T080000
END:DAYLIGHT
BEGIN:STANDARD
TZOFFSETFROM:-0500
TZOFFSETTO:-0600
TZNAME:CST
DTSTART:20231105T070000
END:STANDARD
BEGIN:DAYLIGHT
TZOFFSETFROM:-0600
TZOFFSETTO:-0500
TZNAME:CDT
DTSTART:20240310T080000
END:DAYLIGHT
BEGIN:STANDARD
TZOFFSETFROM:-0500
TZOFFSETTO:-0600
TZNAME:CST
DTSTART:20241103T070000
END:STANDARD
BEGIN:DAYLIGHT
TZOFFSETFROM:-0600
TZOFFSETTO:-0500
TZNAME:CDT
DTSTART:20250309T080000
END:DAYLIGHT
BEGIN:STANDARD
TZOFFSETFROM:-0500
TZOFFSETTO:-0600
TZNAME:CST
DTSTART:20251102T070000
END:STANDARD
END:VTIMEZONE
BEGIN:VEVENT
DTSTART;TZID=America/Chicago:20241111T000000
DTEND;TZID=America/Chicago:20241111T235959
DTSTAMP:20260420T192512
CREATED:20231205T143211Z
LAST-MODIFIED:20231205T143212Z
UID:4959-1731283200-1731369599@warrenvillefire.com
SUMMARY:Veterans Day
DESCRIPTION:Office closed.
URL:https://warrenvillefire.com/event/veterans-day/
LOCATION:Warrenville Fire Protection District Headquarters\, 3S472 Batavia Road\, Warrenville\, IL\, 60555\, United States
END:VEVENT
BEGIN:VEVENT
DTSTART;TZID=America/Chicago:20241112T173000
DTEND;TZID=America/Chicago:20241112T173000
DTSTAMP:20260420T192512
CREATED:20231128T195314Z
LAST-MODIFIED:20250117T135737Z
UID:4881-1731432600-1731432600@warrenvillefire.com
SUMMARY:Fire Commission Meeting
DESCRIPTION:Meeting Agenda\n\n\n\nMeeting Minutes
URL:https://warrenvillefire.com/event/fire-commission-meeting-23/
LOCATION:Warrenville Fire Protection District Headquarters\, 3S472 Batavia Road\, Warrenville\, IL\, 60555\, United States
END:VEVENT
BEGIN:VEVENT
DTSTART;TZID=America/Chicago:20241119T073000
DTEND;TZID=America/Chicago:20241119T073000
DTSTAMP:20260420T192512
CREATED:20241115T194124Z
LAST-MODIFIED:20250115T165859Z
UID:5379-1732001400-1732001400@warrenvillefire.com
SUMMARY:Foreign Fire Insurance Meeting
DESCRIPTION:Meeting Agenda\n\n\n\nMeeting Minutes
URL:https://warrenvillefire.com/event/foreign-fire-insurance-meeting-2/
LOCATION:Warrenville Fire Protection District Headquarters\, 3S472 Batavia Road\, Warrenville\, IL\, 60555\, United States
END:VEVENT
BEGIN:VEVENT
DTSTART;TZID=America/Chicago:20241120T170000
DTEND;TZID=America/Chicago:20241120T170000
DTSTAMP:20260420T192512
CREATED:20231128T193850Z
LAST-MODIFIED:20241230T173213Z
UID:4868-1732122000-1732122000@warrenvillefire.com
SUMMARY:Trustee Board Meeting
DESCRIPTION:Meeting Agenda\n\n\n\nMeeting Packet\n\n\n\nMeeting Minutes
URL:https://warrenvillefire.com/event/trustee-board-meeting-6/
LOCATION:Warrenville Fire Protection District Headquarters\, 3S472 Batavia Road\, Warrenville\, IL\, 60555\, United States
END:VEVENT
BEGIN:VEVENT
DTSTART;TZID=America/Chicago:20241128T000000
DTEND;TZID=America/Chicago:20241128T235959
DTSTAMP:20260420T192512
CREATED:20231205T143941Z
LAST-MODIFIED:20231205T143942Z
UID:4961-1732752000-1732838399@warrenvillefire.com
SUMMARY:Thanksgiving Day
DESCRIPTION:Office closed.
URL:https://warrenvillefire.com/event/thanksgiving-day-2/
LOCATION:Warrenville Fire Protection District Headquarters\, 3S472 Batavia Road\, Warrenville\, IL\, 60555\, United States
END:VEVENT
BEGIN:VEVENT
DTSTART;TZID=America/Chicago:20241129T000000
DTEND;TZID=America/Chicago:20241129T235959
DTSTAMP:20260420T192512
CREATED:20231205T144022Z
LAST-MODIFIED:20231205T144036Z
UID:4963-1732838400-1732924799@warrenvillefire.com
SUMMARY:Thanksgiving Day Observed
DESCRIPTION:Office closed.
URL:https://warrenvillefire.com/event/thanksgiving-day-observed/
LOCATION:Warrenville Fire Protection District Headquarters\, 3S472 Batavia Road\, Warrenville\, IL\, 60555\, United States
END:VEVENT
END:VCALENDAR