BEGIN:VCALENDAR
VERSION:2.0
PRODID:-//Warrenville Fire Protection District - ECPv6.15.20//NONSGML v1.0//EN
CALSCALE:GREGORIAN
METHOD:PUBLISH
X-ORIGINAL-URL:https://warrenvillefire.com
X-WR-CALDESC:Events for Warrenville Fire Protection District
REFRESH-INTERVAL;VALUE=DURATION:PT1H
X-Robots-Tag:noindex
X-PUBLISHED-TTL:PT1H
BEGIN:VTIMEZONE
TZID:America/Chicago
BEGIN:DAYLIGHT
TZOFFSETFROM:-0600
TZOFFSETTO:-0500
TZNAME:CDT
DTSTART:20240310T080000
END:DAYLIGHT
BEGIN:STANDARD
TZOFFSETFROM:-0500
TZOFFSETTO:-0600
TZNAME:CST
DTSTART:20241103T070000
END:STANDARD
BEGIN:DAYLIGHT
TZOFFSETFROM:-0600
TZOFFSETTO:-0500
TZNAME:CDT
DTSTART:20250309T080000
END:DAYLIGHT
BEGIN:STANDARD
TZOFFSETFROM:-0500
TZOFFSETTO:-0600
TZNAME:CST
DTSTART:20251102T070000
END:STANDARD
BEGIN:DAYLIGHT
TZOFFSETFROM:-0600
TZOFFSETTO:-0500
TZNAME:CDT
DTSTART:20260308T080000
END:DAYLIGHT
BEGIN:STANDARD
TZOFFSETFROM:-0500
TZOFFSETTO:-0600
TZNAME:CST
DTSTART:20261101T070000
END:STANDARD
END:VTIMEZONE
BEGIN:VEVENT
DTSTART;TZID=America/Chicago:20250618T170000
DTEND;TZID=America/Chicago:20250618T170000
DTSTAMP:20260420T223141
CREATED:20241122T163116Z
LAST-MODIFIED:20250718T141417Z
UID:5433-1750266000-1750266000@warrenvillefire.com
SUMMARY:Trustee Board Meeting
DESCRIPTION:Meeting Agenda\n\n\n\nMeeting Packet\n\n\n\nMeeting Minutes
URL:https://warrenvillefire.com/event/trustee-board-meeting-14/
LOCATION:Warrenville Fire Protection District Headquarters\, 3S472 Batavia Road\, Warrenville\, IL\, 60555\, United States
END:VEVENT
BEGIN:VEVENT
DTSTART;TZID=America/Chicago:20250619T000000
DTEND;TZID=America/Chicago:20250619T235959
DTSTAMP:20260420T223141
CREATED:20241122T171751Z
LAST-MODIFIED:20241122T171819Z
UID:5454-1750291200-1750377599@warrenvillefire.com
SUMMARY:Juneteenth Day
DESCRIPTION:Administration office closed.
URL:https://warrenvillefire.com/event/juneteenth-day-2/
LOCATION:Warrenville Fire Protection District Headquarters\, 3S472 Batavia Road\, Warrenville\, IL\, 60555\, United States
END:VEVENT
BEGIN:VEVENT
DTSTART;TZID=America/Chicago:20250623T090000
DTEND;TZID=America/Chicago:20250627T120000
DTSTAMP:20260420T223141
CREATED:20250617T140804Z
LAST-MODIFIED:20250617T141850Z
UID:5795-1750669200-1751025600@warrenvillefire.com
SUMMARY:Warrenville Junior Safety Academy
DESCRIPTION:The Warrenville Fire Protection District and the Warrenville Police Department\, in collaboration with the Warrenville Park District\, will be hosting the Warrenville Junior Safety Academy this summer. This will be a one-week program designed to build a bond of trust and friendship between Warrenville first responders and the youth in our community.  \n\n\n\nAges 10-14 | June 23-27 | 9am to 12:00 pm
URL:https://warrenvillefire.com/event/warrenville-junior-safety-academy/
LOCATION:IL
END:VEVENT
END:VCALENDAR