BEGIN:VCALENDAR
VERSION:2.0
PRODID:-//Warrenville Fire Protection District - ECPv6.15.20//NONSGML v1.0//EN
CALSCALE:GREGORIAN
METHOD:PUBLISH
X-WR-CALNAME:Warrenville Fire Protection District
X-ORIGINAL-URL:https://warrenvillefire.com
X-WR-CALDESC:Events for Warrenville Fire Protection District
REFRESH-INTERVAL;VALUE=DURATION:PT1H
X-Robots-Tag:noindex
X-PUBLISHED-TTL:PT1H
BEGIN:VTIMEZONE
TZID:America/Chicago
BEGIN:DAYLIGHT
TZOFFSETFROM:-0600
TZOFFSETTO:-0500
TZNAME:CDT
DTSTART:20240310T080000
END:DAYLIGHT
BEGIN:STANDARD
TZOFFSETFROM:-0500
TZOFFSETTO:-0600
TZNAME:CST
DTSTART:20241103T070000
END:STANDARD
BEGIN:DAYLIGHT
TZOFFSETFROM:-0600
TZOFFSETTO:-0500
TZNAME:CDT
DTSTART:20250309T080000
END:DAYLIGHT
BEGIN:STANDARD
TZOFFSETFROM:-0500
TZOFFSETTO:-0600
TZNAME:CST
DTSTART:20251102T070000
END:STANDARD
BEGIN:DAYLIGHT
TZOFFSETFROM:-0600
TZOFFSETTO:-0500
TZNAME:CDT
DTSTART:20260308T080000
END:DAYLIGHT
BEGIN:STANDARD
TZOFFSETFROM:-0500
TZOFFSETTO:-0600
TZNAME:CST
DTSTART:20261101T070000
END:STANDARD
END:VTIMEZONE
BEGIN:VEVENT
DTSTART;TZID=America/Chicago:20250704T000000
DTEND;TZID=America/Chicago:20250704T235959
DTSTAMP:20260420T204726
CREATED:20241122T171913Z
LAST-MODIFIED:20241122T171915Z
UID:5457-1751587200-1751673599@warrenvillefire.com
SUMMARY:Independence Day
DESCRIPTION:Administration office closed.
URL:https://warrenvillefire.com/event/independence-day-4/
LOCATION:Warrenville Fire Protection District Headquarters\, 3S472 Batavia Road\, Warrenville\, IL\, 60555\, United States
END:VEVENT
BEGIN:VEVENT
DTSTART;TZID=America/Chicago:20250708T073000
DTEND;TZID=America/Chicago:20250708T073000
DTSTAMP:20260420T204726
CREATED:20241126T172516Z
LAST-MODIFIED:20250701T173938Z
UID:5477-1751959800-1751959800@warrenvillefire.com
SUMMARY:Foreign Fire Board Meeting
DESCRIPTION:Meeting Agenda
URL:https://warrenvillefire.com/event/foreign-fire-board-meeting-4/
LOCATION:Warrenville Fire Protection District Headquarters\, 3S472 Batavia Road\, Warrenville\, IL\, 60555\, United States
END:VEVENT
BEGIN:VEVENT
DTSTART;TZID=America/Chicago:20250708T173000
DTEND;TZID=America/Chicago:20250708T173000
DTSTAMP:20260420T204726
CREATED:20241206T172114Z
LAST-MODIFIED:20251121T170823Z
UID:5493-1751995800-1751995800@warrenvillefire.com
SUMMARY:Fire Commission Meeting
DESCRIPTION:Meeting Agenda\n\n\n\nMeeting Minutes
URL:https://warrenvillefire.com/event/fire-commission-meeting-28/
LOCATION:Warrenville Fire Protection District Headquarters\, 3S472 Batavia Road\, Warrenville\, IL\, 60555\, United States
END:VEVENT
BEGIN:VEVENT
DTSTART;TZID=America/Chicago:20250716T170000
DTEND;TZID=America/Chicago:20250716T170000
DTSTAMP:20260420T204726
CREATED:20241122T163204Z
LAST-MODIFIED:20250822T163815Z
UID:5435-1752685200-1752685200@warrenvillefire.com
SUMMARY:Trustee Board Meeting
DESCRIPTION:Meeting Agenda\n\n\n\nMeeting Packet\n\n\n\nMeeting Minutes
URL:https://warrenvillefire.com/event/trustee-board-meeting-15/
LOCATION:Warrenville Fire Protection District Headquarters\, 3S472 Batavia Road\, Warrenville\, IL\, 60555\, United States
END:VEVENT
END:VCALENDAR