BEGIN:VCALENDAR
VERSION:2.0
PRODID:-//Warrenville Fire Protection District - ECPv6.15.20//NONSGML v1.0//EN
CALSCALE:GREGORIAN
METHOD:PUBLISH
X-ORIGINAL-URL:https://warrenvillefire.com
X-WR-CALDESC:Events for Warrenville Fire Protection District
REFRESH-INTERVAL;VALUE=DURATION:PT1H
X-Robots-Tag:noindex
X-PUBLISHED-TTL:PT1H
BEGIN:VTIMEZONE
TZID:America/Chicago
BEGIN:DAYLIGHT
TZOFFSETFROM:-0600
TZOFFSETTO:-0500
TZNAME:CDT
DTSTART:20240310T080000
END:DAYLIGHT
BEGIN:STANDARD
TZOFFSETFROM:-0500
TZOFFSETTO:-0600
TZNAME:CST
DTSTART:20241103T070000
END:STANDARD
BEGIN:DAYLIGHT
TZOFFSETFROM:-0600
TZOFFSETTO:-0500
TZNAME:CDT
DTSTART:20250309T080000
END:DAYLIGHT
BEGIN:STANDARD
TZOFFSETFROM:-0500
TZOFFSETTO:-0600
TZNAME:CST
DTSTART:20251102T070000
END:STANDARD
BEGIN:DAYLIGHT
TZOFFSETFROM:-0600
TZOFFSETTO:-0500
TZNAME:CDT
DTSTART:20260308T080000
END:DAYLIGHT
BEGIN:STANDARD
TZOFFSETFROM:-0500
TZOFFSETTO:-0600
TZNAME:CST
DTSTART:20261101T070000
END:STANDARD
END:VTIMEZONE
BEGIN:VEVENT
DTSTART;TZID=America/Chicago:20250820T153000
DTEND;TZID=America/Chicago:20250820T153000
DTSTAMP:20260425T054310
CREATED:20241115T152405Z
LAST-MODIFIED:20260106T193139Z
UID:5375-1755703800-1755703800@warrenvillefire.com
SUMMARY:Firefighters' Pension Fund Meeting
DESCRIPTION:Meeting Agenda \n\n\n\nMeeting Minutes
URL:https://warrenvillefire.com/event/firefihgters-pension-fund-meeting/
LOCATION:Warrenville Fire Protection District Headquarters\, 3S472 Batavia Road\, Warrenville\, IL\, 60555\, United States
END:VEVENT
BEGIN:VEVENT
DTSTART;TZID=America/Chicago:20250820T170000
DTEND;TZID=America/Chicago:20250820T170000
DTSTAMP:20260425T054310
CREATED:20241122T163254Z
LAST-MODIFIED:20250919T123552Z
UID:5437-1755709200-1755709200@warrenvillefire.com
SUMMARY:Trustee Board Meeting
DESCRIPTION:Meeting Agenda\n\n\n\nMeeting Packet\n\n\n\nMeeting Minutes
URL:https://warrenvillefire.com/event/trustee-board-meeting-16/
LOCATION:Warrenville Fire Protection District Headquarters\, 3S472 Batavia Road\, Warrenville\, IL\, 60555\, United States
END:VEVENT
END:VCALENDAR